Package: seqsetvis Version: 1.26.0 Command: /Library/Frameworks/R.framework/Resources/bin/R CMD INSTALL seqsetvis StartedAt: 2025-03-31 16:19:26 -0400 (Mon, 31 Mar 2025) EndedAt: 2025-03-31 16:20:08 -0400 (Mon, 31 Mar 2025) EllapsedTime: 42.0 seconds RetCode: 0 Status: OK