Package: seqsetvis Version: 1.26.0 Command: rm -rf seqsetvis.buildbin-libdir && mkdir seqsetvis.buildbin-libdir && /Users/biocbuild/BBS/utils/build-universal.sh seqsetvis_1.26.0.tar.gz /Library/Frameworks/R.framework/Resources/bin/R seqsetvis.buildbin-libdir StartedAt: 2025-04-02 16:19:40 -0400 (Wed, 02 Apr 2025) EndedAt: 2025-04-02 16:20:28 -0400 (Wed, 02 Apr 2025) EllapsedTime: 48.5 seconds RetCode: 0 Status: OK PackageFile: seqsetvis_1.26.0.tgz PackageFileSize: 2.4 MiB