Package: seqcombo Version: 1.28.0 Command: F:\biocbuild\bbs-3.20-bioc\R\bin\R.exe CMD INSTALL seqcombo StartedAt: 2025-03-31 15:38:11 -0400 (Mon, 31 Mar 2025) EndedAt: 2025-03-31 15:38:22 -0400 (Mon, 31 Mar 2025) EllapsedTime: 10.6 seconds RetCode: 0 Status: OK