Package: seqPattern Version: 1.38.0 Command: /home/biocbuild/R/R/bin/R CMD build --keep-empty-dirs --no-resave-data seqPattern StartedAt: 2025-04-01 02:39:45 -0000 (Tue, 01 Apr 2025) EndedAt: 2025-04-01 02:40:23 -0000 (Tue, 01 Apr 2025) EllapsedTime: 38.0 seconds RetCode: 0 Status: OK PackageFile: seqPattern_1.38.0.tar.gz PackageFileSize: 5.358 MiB