Package: seqPattern Version: 1.38.0 Command: /Library/Frameworks/R.framework/Resources/bin/R CMD build --keep-empty-dirs --no-resave-data seqPattern StartedAt: 2025-04-01 07:40:11 -0400 (Tue, 01 Apr 2025) EndedAt: 2025-04-01 07:40:52 -0400 (Tue, 01 Apr 2025) EllapsedTime: 41.6 seconds RetCode: 0 Status: OK PackageFile: seqPattern_1.38.0.tar.gz PackageFileSize: 5.368 MiB