Package: seqLogo Version: 1.72.0 Command: F:\biocbuild\bbs-3.20-bioc\R\bin\R.exe CMD check --no-multiarch --install=check:seqLogo.install-out.txt --library=F:\biocbuild\bbs-3.20-bioc\R\library --no-vignettes --timings seqLogo_1.72.0.tar.gz StartedAt: 2025-04-01 05:55:37 -0400 (Tue, 01 Apr 2025) EndedAt: 2025-04-01 05:56:10 -0400 (Tue, 01 Apr 2025) EllapsedTime: 32.5 seconds RetCode: 0 Status: OK CheckDir: seqLogo.Rcheck Warnings: 0