Package: seqCAT Version: 1.28.0 Command: /home/biocbuild/bbs-3.20-bioc/R/bin/R CMD INSTALL seqCAT StartedAt: 2025-03-31 15:55:23 -0400 (Mon, 31 Mar 2025) EndedAt: 2025-03-31 15:55:58 -0400 (Mon, 31 Mar 2025) EllapsedTime: 35.0 seconds RetCode: 0 Status: OK