Package: seqArchRplus Version: 1.6.0 Command: /home/biocbuild/bbs-3.20-bioc/R/bin/R CMD check --install=check:seqArchRplus.install-out.txt --library=/home/biocbuild/bbs-3.20-bioc/R/site-library --timings seqArchRplus_1.6.0.tar.gz StartedAt: 2025-04-01 02:10:21 -0400 (Tue, 01 Apr 2025) EndedAt: 2025-04-01 02:16:49 -0400 (Tue, 01 Apr 2025) EllapsedTime: 387.5 seconds RetCode: 0 Status: WARNINGS CheckDir: seqArchRplus.Rcheck Warnings: 1