Package: seqArchRplus Version: 1.6.0 Command: /home/biocbuild/bbs-3.20-bioc/R/bin/R CMD build --keep-empty-dirs --no-resave-data --md5 seqArchRplus StartedAt: 2025-03-31 19:05:51 -0400 (Mon, 31 Mar 2025) EndedAt: 2025-03-31 19:08:12 -0400 (Mon, 31 Mar 2025) EllapsedTime: 141.2 seconds RetCode: 0 Status: OK PackageFile: seqArchRplus_1.6.0.tar.gz PackageFileSize: 2.964 MiB