Package: seq2pathway Version: 1.38.0 Command: /home/biocbuild/R/R/bin/R CMD INSTALL seq2pathway StartedAt: 2025-03-31 20:52:29 -0000 (Mon, 31 Mar 2025) EndedAt: 2025-03-31 20:52:57 -0000 (Mon, 31 Mar 2025) EllapsedTime: 28.2 seconds RetCode: 0 Status: OK