Package: seq2pathway Version: 1.38.0 Command: /home/biocbuild/R/R/bin/R CMD check --install=check:seq2pathway.install-out.txt --library=/home/biocbuild/R/R/site-library --no-vignettes --timings seq2pathway_1.38.0.tar.gz StartedAt: 2025-04-01 10:37:08 -0000 (Tue, 01 Apr 2025) EndedAt: 2025-04-01 10:41:31 -0000 (Tue, 01 Apr 2025) EllapsedTime: 263.3 seconds RetCode: 0 Status: WARNINGS CheckDir: seq2pathway.Rcheck Warnings: 2