Package: seq2pathway Version: 1.38.0 Command: /home/biocbuild/R/R/bin/R CMD build --keep-empty-dirs --no-resave-data seq2pathway StartedAt: 2025-04-01 02:38:31 -0000 (Tue, 01 Apr 2025) EndedAt: 2025-04-01 02:39:53 -0000 (Tue, 01 Apr 2025) EllapsedTime: 82.1 seconds RetCode: 0 Status: OK PackageFile: seq2pathway_1.38.0.tar.gz PackageFileSize: 1.412 MiB