Package: semisup Version: 1.30.0 Command: F:\biocbuild\bbs-3.20-bioc\R\bin\R.exe CMD check --no-multiarch --install=check:semisup.install-out.txt --library=F:\biocbuild\bbs-3.20-bioc\R\library --no-vignettes --timings semisup_1.30.0.tar.gz StartedAt: 2025-04-01 05:53:02 -0400 (Tue, 01 Apr 2025) EndedAt: 2025-04-01 05:53:50 -0400 (Tue, 01 Apr 2025) EllapsedTime: 48.2 seconds RetCode: 0 Status: OK CheckDir: semisup.Rcheck Warnings: 0