Package: semisup Version: 1.30.0 Command: /Library/Frameworks/R.framework/Resources/bin/R CMD build --keep-empty-dirs --no-resave-data semisup StartedAt: 2025-03-31 21:58:03 -0400 (Mon, 31 Mar 2025) EndedAt: 2025-03-31 21:58:29 -0400 (Mon, 31 Mar 2025) EllapsedTime: 25.4 seconds RetCode: 0 Status: OK PackageFile: semisup_1.30.0.tar.gz PackageFileSize: 306.4 KiB