Package: selectKSigs Version: 1.18.0 Command: /home/biocbuild/R/R/bin/R CMD INSTALL selectKSigs StartedAt: 2025-03-31 20:35:14 -0000 (Mon, 31 Mar 2025) EndedAt: 2025-03-31 20:35:15 -0000 (Mon, 31 Mar 2025) EllapsedTime: 1.0 seconds RetCode: 1 Status: ERROR