Package: selectKSigs Version: 1.18.0 Command: /home/biocbuild/bbs-3.20-bioc/R/bin/R CMD check --install=check:selectKSigs.install-out.txt --library=/home/biocbuild/bbs-3.20-bioc/R/site-library --timings selectKSigs_1.18.0.tar.gz StartedAt: 2025-04-01 02:07:59 -0400 (Tue, 01 Apr 2025) EndedAt: 2025-04-01 02:11:02 -0400 (Tue, 01 Apr 2025) EllapsedTime: 183.2 seconds RetCode: 0 Status: OK CheckDir: selectKSigs.Rcheck Warnings: 0