Package: selectKSigs Version: 1.18.0 Command: /Library/Frameworks/R.framework/Resources/bin/R CMD check --install=check:selectKSigs.install-out.txt --library=/Library/Frameworks/R.framework/Resources/library --no-vignettes --timings selectKSigs_1.18.0.tar.gz StartedAt: 2025-04-02 08:28:02 -0400 (Wed, 02 Apr 2025) EndedAt: 2025-04-02 08:30:15 -0400 (Wed, 02 Apr 2025) EllapsedTime: 132.4 seconds RetCode: 0 Status: OK CheckDir: selectKSigs.Rcheck Warnings: 0