Package: segmenter Version: 1.12.0 Command: /Library/Frameworks/R.framework/Resources/bin/R CMD check --install=check:segmenter.install-out.txt --library=/Library/Frameworks/R.framework/Resources/library --no-vignettes --timings segmenter_1.12.0.tar.gz StartedAt: 2025-04-02 08:25:32 -0400 (Wed, 02 Apr 2025) EndedAt: 2025-04-02 08:34:29 -0400 (Wed, 02 Apr 2025) EllapsedTime: 537.0 seconds RetCode: 0 Status: OK CheckDir: segmenter.Rcheck Warnings: 0