Package: sechm Version: 1.14.0 Command: /Library/Frameworks/R.framework/Resources/bin/R CMD check --install=check:sechm.install-out.txt --library=/Library/Frameworks/R.framework/Resources/library --no-vignettes --timings sechm_1.14.0.tar.gz StartedAt: 2025-04-02 08:25:18 -0400 (Wed, 02 Apr 2025) EndedAt: 2025-04-02 08:28:02 -0400 (Wed, 02 Apr 2025) EllapsedTime: 164.1 seconds RetCode: 0 Status: OK CheckDir: sechm.Rcheck Warnings: 0