Package: scviR Version: 1.6.0 Command: /home/biocbuild/R/R/bin/R CMD INSTALL scviR StartedAt: 2025-03-31 21:03:46 -0000 (Mon, 31 Mar 2025) EndedAt: 2025-03-31 21:04:26 -0000 (Mon, 31 Mar 2025) EllapsedTime: 39.7 seconds RetCode: 0 Status: OK