Package: scviR Version: 1.6.0 Command: /home/biocbuild/bbs-3.20-bioc/R/bin/R CMD build --keep-empty-dirs --no-resave-data --md5 scviR StartedAt: 2025-03-31 19:04:28 -0400 (Mon, 31 Mar 2025) EndedAt: 2025-03-31 19:06:08 -0400 (Mon, 31 Mar 2025) EllapsedTime: 100.1 seconds RetCode: 0 Status: OK PackageFile: scviR_1.6.0.tar.gz PackageFileSize: 3.636 MiB