Package: scviR Version: 1.6.0 Command: /Library/Frameworks/R.framework/Resources/bin/R CMD check --install=check:scviR.install-out.txt --library=/Library/Frameworks/R.framework/Resources/library --no-vignettes --timings scviR_1.6.0.tar.gz StartedAt: 2025-04-02 08:21:33 -0400 (Wed, 02 Apr 2025) EndedAt: 2025-04-02 08:28:39 -0400 (Wed, 02 Apr 2025) EllapsedTime: 426.5 seconds RetCode: 0 Status: OK CheckDir: scviR.Rcheck Warnings: 0