Package: scry Version: 1.18.0 Command: F:\biocbuild\bbs-3.20-bioc\R\bin\R.exe CMD INSTALL scry StartedAt: 2025-03-31 16:54:21 -0400 (Mon, 31 Mar 2025) EndedAt: 2025-03-31 16:54:49 -0400 (Mon, 31 Mar 2025) EllapsedTime: 28.3 seconds RetCode: 0 Status: OK