Package: scry Version: 1.18.0 Command: /home/biocbuild/bbs-3.20-bioc/R/bin/R CMD check --install=check:scry.install-out.txt --library=/home/biocbuild/bbs-3.20-bioc/R/site-library --timings scry_1.18.0.tar.gz StartedAt: 2025-04-01 02:04:38 -0400 (Tue, 01 Apr 2025) EndedAt: 2025-04-01 02:10:57 -0400 (Tue, 01 Apr 2025) EllapsedTime: 379.3 seconds RetCode: 0 Status: OK CheckDir: scry.Rcheck Warnings: 0