Package: scry Version: 1.18.0 Command: rm -rf scry.buildbin-libdir && mkdir scry.buildbin-libdir && /Users/biocbuild/BBS/utils/build-universal.sh scry_1.18.0.tar.gz /Library/Frameworks/R.framework/Resources/bin/R scry.buildbin-libdir StartedAt: 2025-04-02 16:16:22 -0400 (Wed, 02 Apr 2025) EndedAt: 2025-04-02 16:16:54 -0400 (Wed, 02 Apr 2025) EllapsedTime: 32.0 seconds RetCode: 0 Status: OK PackageFile: scry_1.18.0.tgz PackageFileSize: 4.549 MiB