Package: screenCounter Version: 1.6.0 Command: /Library/Frameworks/R.framework/Resources/bin/R CMD INSTALL screenCounter StartedAt: 2025-03-31 15:26:48 -0400 (Mon, 31 Mar 2025) EndedAt: 2025-03-31 15:29:30 -0400 (Mon, 31 Mar 2025) EllapsedTime: 162.1 seconds RetCode: 0 Status: OK