Package: screenCounter Version: 1.6.0 Command: /Library/Frameworks/R.framework/Resources/bin/R CMD check --install=check:screenCounter.install-out.txt --library=/Library/Frameworks/R.framework/Resources/library --no-vignettes --timings screenCounter_1.6.0.tar.gz StartedAt: 2025-04-02 08:10:20 -0400 (Wed, 02 Apr 2025) EndedAt: 2025-04-02 08:13:20 -0400 (Wed, 02 Apr 2025) EllapsedTime: 180.2 seconds RetCode: 0 Status: OK CheckDir: screenCounter.Rcheck Warnings: 0