Package: scrapper Version: 1.0.3 Command: F:\biocbuild\bbs-3.20-bioc\R\bin\R.exe CMD INSTALL scrapper StartedAt: 2025-03-31 15:47:25 -0400 (Mon, 31 Mar 2025) EndedAt: 2025-03-31 15:56:03 -0400 (Mon, 31 Mar 2025) EllapsedTime: 517.8 seconds RetCode: 0 Status: OK