Package: scrapper Version: 1.0.3 Command: /home/biocbuild/bbs-3.20-bioc/R/bin/R CMD INSTALL scrapper StartedAt: 2025-03-31 15:18:27 -0400 (Mon, 31 Mar 2025) EndedAt: 2025-03-31 15:24:06 -0400 (Mon, 31 Mar 2025) EllapsedTime: 339.0 seconds RetCode: 0 Status: OK