Package: scrapper Version: 1.0.3 Command: /Library/Frameworks/R.framework/Resources/bin/R CMD check --install=check:scrapper.install-out.txt --library=/Library/Frameworks/R.framework/Resources/library --no-vignettes --timings scrapper_1.0.3.tar.gz StartedAt: 2025-04-01 08:52:33 -0400 (Tue, 01 Apr 2025) EndedAt: 2025-04-01 08:58:31 -0400 (Tue, 01 Apr 2025) EllapsedTime: 357.8 seconds RetCode: 0 Status: OK CheckDir: scrapper.Rcheck Warnings: 0