Package: scran Version: 1.34.0 Command: F:\biocbuild\bbs-3.20-bioc\R\bin\R.exe CMD INSTALL scran StartedAt: 2025-03-31 16:52:35 -0400 (Mon, 31 Mar 2025) EndedAt: 2025-03-31 16:55:06 -0400 (Mon, 31 Mar 2025) EllapsedTime: 150.3 seconds RetCode: 0 Status: OK