Package: scran Version: 1.34.0 Command: rm -rf scran.buildbin-libdir && mkdir scran.buildbin-libdir && F:\biocbuild\bbs-3.20-bioc\R\bin\R.exe CMD INSTALL --build --library=scran.buildbin-libdir scran_1.34.0.tar.gz StartedAt: 2025-04-01 09:10:57 -0400 (Tue, 01 Apr 2025) EndedAt: 2025-04-01 09:13:04 -0400 (Tue, 01 Apr 2025) EllapsedTime: 127.4 seconds RetCode: 0 Status: OK PackageFile: scran_1.34.0.zip PackageFileSize: 1.777 MiB