Package: scp Version: 1.16.0 Command: chmod a+r scp -R && F:\biocbuild\bbs-3.20-bioc\R\bin\R.exe CMD build --keep-empty-dirs --no-resave-data scp StartedAt: 2025-03-31 21:46:30 -0400 (Mon, 31 Mar 2025) EndedAt: 2025-03-31 21:52:23 -0400 (Mon, 31 Mar 2025) EllapsedTime: 352.4 seconds RetCode: 0 Status: OK PackageFile: scp_1.16.0.tar.gz PackageFileSize: 6.693 MiB