Package: scp Version: 1.16.0 Command: /home/biocbuild/bbs-3.20-bioc/R/bin/R CMD build --keep-empty-dirs --no-resave-data --md5 scp StartedAt: 2025-03-31 19:01:27 -0400 (Mon, 31 Mar 2025) EndedAt: 2025-03-31 19:05:34 -0400 (Mon, 31 Mar 2025) EllapsedTime: 247.2 seconds RetCode: 0 Status: OK PackageFile: scp_1.16.0.tar.gz PackageFileSize: 8.497 MiB