Package: scp Version: 1.16.0 Command: /Library/Frameworks/R.framework/Resources/bin/R CMD check --install=check:scp.install-out.txt --library=/Library/Frameworks/R.framework/Resources/library --no-vignettes --timings scp_1.16.0.tar.gz StartedAt: 2025-04-01 08:50:47 -0400 (Tue, 01 Apr 2025) EndedAt: 2025-04-01 09:06:13 -0400 (Tue, 01 Apr 2025) EllapsedTime: 925.9 seconds RetCode: 0 Status: OK CheckDir: scp.Rcheck Warnings: 0