Package: scoup Version: 1.0.0 Command: /home/biocbuild/R/R/bin/R CMD build --keep-empty-dirs --no-resave-data scoup StartedAt: 2025-04-01 02:29:48 -0000 (Tue, 01 Apr 2025) EndedAt: 2025-04-01 02:30:14 -0000 (Tue, 01 Apr 2025) EllapsedTime: 26.0 seconds RetCode: 0 Status: OK PackageFile: scoup_1.0.0.tar.gz PackageFileSize: 402 KiB