Package: scoup Version: 1.0.0 Command: chmod a+r scoup -R && F:\biocbuild\bbs-3.20-bioc\R\bin\R.exe CMD build --keep-empty-dirs --no-resave-data scoup StartedAt: 2025-03-31 21:46:17 -0400 (Mon, 31 Mar 2025) EndedAt: 2025-03-31 21:47:01 -0400 (Mon, 31 Mar 2025) EllapsedTime: 44.6 seconds RetCode: 0 Status: OK PackageFile: scoup_1.0.0.tar.gz PackageFileSize: 334.3 KiB