Package: scone Version: 1.30.0 Command: F:\biocbuild\bbs-3.20-bioc\R\bin\R.exe CMD INSTALL scone StartedAt: 2025-03-31 16:34:41 -0400 (Mon, 31 Mar 2025) EndedAt: 2025-03-31 16:35:51 -0400 (Mon, 31 Mar 2025) EllapsedTime: 70.2 seconds RetCode: 0 Status: OK