Package: scone Version: 1.30.0 Command: /Library/Frameworks/R.framework/Resources/bin/R CMD INSTALL scone StartedAt: 2025-03-31 16:08:53 -0400 (Mon, 31 Mar 2025) EndedAt: 2025-03-31 16:10:42 -0400 (Mon, 31 Mar 2025) EllapsedTime: 108.3 seconds RetCode: 0 Status: OK