Package: scone Version: 1.30.0 Command: /Library/Frameworks/R.framework/Resources/bin/R CMD INSTALL scone StartedAt: 2025-03-31 17:11:07 -0400 (Mon, 31 Mar 2025) EndedAt: 2025-03-31 17:12:07 -0400 (Mon, 31 Mar 2025) EllapsedTime: 60.1 seconds RetCode: 0 Status: OK