Package: scone Version: 1.30.0 Command: /Library/Frameworks/R.framework/Resources/bin/R CMD check --install=check:scone.install-out.txt --library=/Library/Frameworks/R.framework/Resources/library --no-vignettes --timings scone_1.30.0.tar.gz StartedAt: 2025-04-02 07:58:19 -0400 (Wed, 02 Apr 2025) EndedAt: 2025-04-02 08:09:25 -0400 (Wed, 02 Apr 2025) EllapsedTime: 666.2 seconds RetCode: 0 Status: OK CheckDir: scone.Rcheck Warnings: 0