Package: scone Version: 1.30.0 Command: /Library/Frameworks/R.framework/Resources/bin/R CMD build --keep-empty-dirs --no-resave-data scone StartedAt: 2025-04-01 07:12:07 -0400 (Tue, 01 Apr 2025) EndedAt: 2025-04-01 07:15:17 -0400 (Tue, 01 Apr 2025) EllapsedTime: 189.9 seconds RetCode: 0 Status: OK PackageFile: scone_1.30.0.tar.gz PackageFileSize: 1.902 MiB