Package: scmeth Version: 1.26.0 Command: F:\biocbuild\bbs-3.20-bioc\R\bin\R.exe CMD INSTALL scmeth StartedAt: 2025-03-31 16:28:54 -0400 (Mon, 31 Mar 2025) EndedAt: 2025-03-31 16:29:52 -0400 (Mon, 31 Mar 2025) EllapsedTime: 58.1 seconds RetCode: 0 Status: OK