Package: scmeth Version: 1.26.0 Command: rm -rf scmeth.buildbin-libdir && mkdir scmeth.buildbin-libdir && F:\biocbuild\bbs-3.20-bioc\R\bin\R.exe CMD INSTALL --build --library=scmeth.buildbin-libdir scmeth_1.26.0.tar.gz StartedAt: 2025-04-01 09:10:12 -0400 (Tue, 01 Apr 2025) EndedAt: 2025-04-01 09:11:08 -0400 (Tue, 01 Apr 2025) EllapsedTime: 56.0 seconds RetCode: 0 Status: OK PackageFile: scmeth_1.26.0.zip PackageFileSize: 781.6 KiB