Package: scmap Version: 1.28.0 Command: /home/biocbuild/R/R/bin/R CMD INSTALL scmap StartedAt: 2025-03-31 20:22:38 -0000 (Mon, 31 Mar 2025) EndedAt: 2025-03-31 20:23:33 -0000 (Mon, 31 Mar 2025) EllapsedTime: 55.5 seconds RetCode: 0 Status: OK