Package: scmap Version: 1.28.0 Command: /home/biocbuild/R/R/bin/R CMD build --keep-empty-dirs --no-resave-data scmap StartedAt: 2025-04-01 02:28:09 -0000 (Tue, 01 Apr 2025) EndedAt: 2025-04-01 02:29:24 -0000 (Tue, 01 Apr 2025) EllapsedTime: 75.1 seconds RetCode: 0 Status: OK PackageFile: scmap_1.28.0.tar.gz PackageFileSize: 2.046 MiB