Package: scifer Version: 1.8.1 Command: /Library/Frameworks/R.framework/Resources/bin/R CMD INSTALL scifer StartedAt: 2025-03-31 15:56:44 -0400 (Mon, 31 Mar 2025) EndedAt: 2025-03-31 15:57:18 -0400 (Mon, 31 Mar 2025) EllapsedTime: 34.1 seconds RetCode: 0 Status: OK