Package: scifer Version: 1.8.1 Command: /Library/Frameworks/R.framework/Resources/bin/R CMD build --keep-empty-dirs --no-resave-data scifer StartedAt: 2025-03-31 21:46:30 -0400 (Mon, 31 Mar 2025) EndedAt: 2025-03-31 21:52:11 -0400 (Mon, 31 Mar 2025) EllapsedTime: 341.2 seconds RetCode: 0 Status: OK PackageFile: scifer_1.8.1.tar.gz PackageFileSize: 1.524 MiB