Package: scifer Version: 1.8.1 Command: /Library/Frameworks/R.framework/Resources/bin/R CMD INSTALL scifer StartedAt: 2025-03-31 16:49:56 -0400 (Mon, 31 Mar 2025) EndedAt: 2025-03-31 16:50:15 -0400 (Mon, 31 Mar 2025) EllapsedTime: 18.7 seconds RetCode: 0 Status: OK