Package: scider Version: 1.4.0 Command: /home/biocbuild/bbs-3.20-bioc/R/bin/R CMD INSTALL scider StartedAt: 2025-03-31 15:55:23 -0400 (Mon, 31 Mar 2025) EndedAt: 2025-03-31 15:55:50 -0400 (Mon, 31 Mar 2025) EllapsedTime: 26.3 seconds RetCode: 0 Status: OK